Package: blacksheepr Version: 1.23.0 Command: rm -rf blacksheepr.buildbin-libdir && mkdir blacksheepr.buildbin-libdir && /Users/biocbuild/BBS/utils/build-universal.sh blacksheepr_1.23.0.tar.gz /Library/Frameworks/R.framework/Resources/bin/R blacksheepr.buildbin-libdir StartedAt: 2025-10-01 01:32:31 -0400 (Wed, 01 Oct 2025) EndedAt: 2025-10-01 01:33:10 -0400 (Wed, 01 Oct 2025) EllapsedTime: 39.3 seconds RetCode: 0 Status: OK PackageFile: blacksheepr_1.23.0.tgz PackageFileSize: 4.285 MiB