Package: biscuiteer Version: 1.21.0 Command: E:\biocbuild\bbs-3.21-bioc\R\bin\R.exe CMD INSTALL biscuiteer StartedAt: 2025-02-03 16:59:14 -0500 (Mon, 03 Feb 2025) EndedAt: 2025-02-03 17:00:48 -0500 (Mon, 03 Feb 2025) EllapsedTime: 94.3 seconds RetCode: 0 Status: OK