Package: biscuiteer Version: 1.21.0 Command: E:\biocbuild\bbs-3.21-bioc\R\bin\R.exe CMD check --no-multiarch --install=check:biscuiteer.install-out.txt --library=E:\biocbuild\bbs-3.21-bioc\R\library --no-vignettes --timings biscuiteer_1.21.0.tar.gz StartedAt: 2025-02-03 23:38:00 -0500 (Mon, 03 Feb 2025) EndedAt: 2025-02-03 23:49:26 -0500 (Mon, 03 Feb 2025) EllapsedTime: 685.5 seconds RetCode: 0 Status: WARNINGS CheckDir: biscuiteer.Rcheck Warnings: 1