Package: biscuiteer Version: 1.21.0 Command: chmod a+r biscuiteer -R && E:\biocbuild\bbs-3.21-bioc\R\bin\R.exe CMD build --keep-empty-dirs --no-resave-data biscuiteer StartedAt: 2025-02-05 17:38:12 -0500 (Wed, 05 Feb 2025) EndedAt: 2025-02-05 17:41:19 -0500 (Wed, 05 Feb 2025) EllapsedTime: 187.1 seconds RetCode: 0 Status: OK PackageFile: biscuiteer_1.21.0.tar.gz PackageFileSize: 4.762 MiB