Package: biscuiteer Version: 1.21.0 Command: rm -rf biscuiteer.buildbin-libdir && mkdir biscuiteer.buildbin-libdir && E:\biocbuild\bbs-3.21-bioc\R\bin\R.exe CMD INSTALL --build --library=biscuiteer.buildbin-libdir biscuiteer_1.21.0.tar.gz StartedAt: 2025-02-06 07:37:25 -0500 (Thu, 06 Feb 2025) EndedAt: 2025-02-06 07:39:43 -0500 (Thu, 06 Feb 2025) EllapsedTime: 138.3 seconds RetCode: 0 Status: OK PackageFile: biscuiteer_1.21.0.zip PackageFileSize: 5.206 MiB