Package: biscuiteer Version: 1.21.0 Command: /home/biocbuild/bbs-3.21-bioc/R/bin/R CMD INSTALL biscuiteer StartedAt: 2025-02-03 16:06:43 -0500 (Mon, 03 Feb 2025) EndedAt: 2025-02-03 16:07:53 -0500 (Mon, 03 Feb 2025) EllapsedTime: 70.0 seconds RetCode: 0 Status: OK