Package: biscuiteer Version: 1.21.0 Command: /home/biocbuild/bbs-3.21-bioc/R/bin/R CMD check --install=check:biscuiteer.install-out.txt --library=/home/biocbuild/bbs-3.21-bioc/R/site-library --timings biscuiteer_1.21.0.tar.gz StartedAt: 2025-02-03 20:37:45 -0500 (Mon, 03 Feb 2025) EndedAt: 2025-02-03 20:47:22 -0500 (Mon, 03 Feb 2025) EllapsedTime: 577.0 seconds RetCode: 0 Status: WARNINGS CheckDir: biscuiteer.Rcheck Warnings: 1