Package: biscuiteer Version: 1.21.0 Command: /home/biocbuild/bbs-3.21-bioc/R/bin/R CMD build --keep-empty-dirs --no-resave-data biscuiteer StartedAt: 2025-02-03 16:34:16 -0500 (Mon, 03 Feb 2025) EndedAt: 2025-02-03 16:36:00 -0500 (Mon, 03 Feb 2025) EllapsedTime: 104.1 seconds RetCode: 0 Status: OK PackageFile: biscuiteer_1.21.0.tar.gz PackageFileSize: 4.762 MiB