Package: biscuiteer Version: 1.21.0 Command: /Library/Frameworks/R.framework/Resources/bin/R CMD INSTALL biscuiteer StartedAt: 2025-02-03 15:29:15 -0500 (Mon, 03 Feb 2025) EndedAt: 2025-02-03 15:30:48 -0500 (Mon, 03 Feb 2025) EllapsedTime: 93.7 seconds RetCode: 0 Status: OK