Package: biscuiteer Version: 1.21.0 Command: rm -rf biscuiteer.buildbin-libdir && mkdir biscuiteer.buildbin-libdir && /Users/biocbuild/BBS/utils/build-universal.sh biscuiteer_1.21.0.tar.gz /Library/Frameworks/R.framework/Resources/bin/R biscuiteer.buildbin-libdir StartedAt: 2025-02-06 00:21:11 -0500 (Thu, 06 Feb 2025) EndedAt: 2025-02-06 00:22:44 -0500 (Thu, 06 Feb 2025) EllapsedTime: 93.5 seconds RetCode: 0 Status: OK PackageFile: biscuiteer_1.21.0.tgz PackageFileSize: 5.195 MiB