Package: biscuiteer Version: 1.21.0 Command: /Library/Frameworks/R.framework/Resources/bin/R CMD INSTALL biscuiteer StartedAt: 2025-02-05 15:14:12 -0500 (Wed, 05 Feb 2025) EndedAt: 2025-02-05 15:14:40 -0500 (Wed, 05 Feb 2025) EllapsedTime: 27.9 seconds RetCode: 0 Status: OK