Package: biscuiteer Version: 1.21.0 Command: /Library/Frameworks/R.framework/Resources/bin/R CMD check --install=check:biscuiteer.install-out.txt --library=/Library/Frameworks/R.framework/Resources/library --no-vignettes --timings biscuiteer_1.21.0.tar.gz StartedAt: 2025-02-05 18:21:29 -0500 (Wed, 05 Feb 2025) EndedAt: 2025-02-05 18:25:02 -0500 (Wed, 05 Feb 2025) EllapsedTime: 213.1 seconds RetCode: 0 Status: WARNINGS CheckDir: biscuiteer.Rcheck Warnings: 1