Package: biscuiteer Version: 1.21.0 Command: /Library/Frameworks/R.framework/Resources/bin/R CMD build --keep-empty-dirs --no-resave-data biscuiteer StartedAt: 2025-02-05 15:44:45 -0500 (Wed, 05 Feb 2025) EndedAt: 2025-02-05 15:45:26 -0500 (Wed, 05 Feb 2025) EllapsedTime: 40.4 seconds RetCode: 0 Status: OK PackageFile: biscuiteer_1.21.0.tar.gz PackageFileSize: 4.761 MiB