Package: biovizBase Version: 1.57.1 Command: chmod a+r biovizBase -R && F:\biocbuild\bbs-3.22-bioc\R\bin\R.exe CMD build --keep-empty-dirs --no-resave-data biovizBase StartedAt: 2025-08-14 18:48:30 -0400 (Thu, 14 Aug 2025) EndedAt: 2025-08-14 18:50:30 -0400 (Thu, 14 Aug 2025) EllapsedTime: 119.3 seconds RetCode: 0 Status: OK PackageFile: biovizBase_1.57.1.tar.gz PackageFileSize: 2.216 MiB