Package: biovizBase Version: 1.55.0 Command: E:\biocbuild\bbs-3.21-bioc\R\bin\R.exe CMD INSTALL biovizBase StartedAt: 2025-02-03 16:52:32 -0500 (Mon, 03 Feb 2025) EndedAt: 2025-02-03 16:53:54 -0500 (Mon, 03 Feb 2025) EllapsedTime: 82.0 seconds RetCode: 0 Status: OK