Package: biovizBase Version: 1.55.0 Command: /home/biocbuild/bbs-3.21-bioc/R/bin/R CMD check --install=check:biovizBase.install-out.txt --library=/home/biocbuild/bbs-3.21-bioc/R/site-library --timings biovizBase_1.55.0.tar.gz StartedAt: 2025-02-02 20:23:12 -0500 (Sun, 02 Feb 2025) EndedAt: 2025-02-02 20:29:12 -0500 (Sun, 02 Feb 2025) EllapsedTime: 359.7 seconds RetCode: 0 Status: WARNINGS CheckDir: biovizBase.Rcheck Warnings: 1