Package: biovizBase Version: 1.55.0 Command: /home/biocbuild/bbs-3.21-bioc/R/bin/R CMD build --keep-empty-dirs --no-resave-data biovizBase StartedAt: 2025-02-02 16:22:15 -0500 (Sun, 02 Feb 2025) EndedAt: 2025-02-02 16:23:15 -0500 (Sun, 02 Feb 2025) EllapsedTime: 60.1 seconds RetCode: 0 Status: OK PackageFile: biovizBase_1.55.0.tar.gz PackageFileSize: 2.397 MiB