Package: biovizBase Version: 1.55.0 Command: /Library/Frameworks/R.framework/Resources/bin/R CMD check --install=check:biovizBase.install-out.txt --library=/Library/Frameworks/R.framework/Resources/library --no-vignettes --timings biovizBase_1.55.0.tar.gz StartedAt: 2025-02-02 19:08:16 -0500 (Sun, 02 Feb 2025) EndedAt: 2025-02-02 19:17:07 -0500 (Sun, 02 Feb 2025) EllapsedTime: 531.4 seconds RetCode: 0 Status: WARNINGS CheckDir: biovizBase.Rcheck Warnings: 2