Package: biovizBase Version: 1.55.0 Command: /home/biocbuild/R/R/bin/R CMD build --keep-empty-dirs --no-resave-data biovizBase StartedAt: 2025-01-28 21:21:43 -0000 (Tue, 28 Jan 2025) EndedAt: 2025-01-28 21:23:06 -0000 (Tue, 28 Jan 2025) EllapsedTime: 83.0 seconds RetCode: 0 Status: OK PackageFile: biovizBase_1.55.0.tar.gz PackageFileSize: 2.391 MiB