Package: biovizBase Version: 1.55.0 Command: /Library/Frameworks/R.framework/Resources/bin/R CMD INSTALL biovizBase StartedAt: 2025-02-03 15:50:43 -0500 (Mon, 03 Feb 2025) EndedAt: 2025-02-03 15:51:01 -0500 (Mon, 03 Feb 2025) EllapsedTime: 17.9 seconds RetCode: 0 Status: OK