Package: biovizBase Version: 1.55.0 Command: /Library/Frameworks/R.framework/Resources/bin/R CMD check --install=check:biovizBase.install-out.txt --library=/Library/Frameworks/R.framework/Resources/library --no-vignettes --timings biovizBase_1.55.0.tar.gz StartedAt: 2025-02-03 18:54:36 -0500 (Mon, 03 Feb 2025) EndedAt: 2025-02-03 18:56:56 -0500 (Mon, 03 Feb 2025) EllapsedTime: 140.1 seconds RetCode: 0 Status: WARNINGS CheckDir: biovizBase.Rcheck Warnings: 2