Package: biovizBase Version: 1.55.0 Command: rm -rf biovizBase.buildbin-libdir && mkdir biovizBase.buildbin-libdir && /Users/biocbuild/BBS/utils/build-universal.sh biovizBase_1.55.0.tar.gz /Library/Frameworks/R.framework/Resources/bin/R biovizBase.buildbin-libdir StartedAt: 2025-02-05 22:12:33 -0500 (Wed, 05 Feb 2025) EndedAt: 2025-02-05 22:12:54 -0500 (Wed, 05 Feb 2025) EllapsedTime: 20.4 seconds RetCode: 0 Status: OK PackageFile: biovizBase_1.55.0.tgz PackageFileSize: 2.741 MiB