Package: biotmle Version: 1.33.0 Command: /home/biocbuild/bbs-3.22-bioc/R/bin/R CMD INSTALL biotmle StartedAt: 2025-10-06 15:36:34 -0400 (Mon, 06 Oct 2025) EndedAt: 2025-10-06 15:36:59 -0400 (Mon, 06 Oct 2025) EllapsedTime: 25.4 seconds RetCode: 0 Status: OK