Package: biotmle Version: 1.33.0 Maintainer: Nima Hejazi MaintainerEmail: nh at nimahejazi.org git_url: https://git.bioconductor.org/packages/biotmle git_branch: devel git_last_commit: 2f2f538 git_last_commit_date: 2025-04-15 11:10:42 -0400 (Tue, 15 Apr 2025)