Package: biosigner Version: 1.39.0 Command: /home/biocbuild/bbs-3.23-bioc/R/bin/R CMD INSTALL biosigner StartedAt: 2025-11-19 15:41:20 -0500 (Wed, 19 Nov 2025) EndedAt: 2025-11-19 15:41:46 -0500 (Wed, 19 Nov 2025) EllapsedTime: 26.3 seconds RetCode: 0 Status: OK