Package: biosigner Version: 1.39.0 Command: /home/biocbuild/bbs-3.23-bioc/R/bin/R CMD build --keep-empty-dirs --no-resave-data biosigner StartedAt: 2025-11-19 16:33:04 -0500 (Wed, 19 Nov 2025) EndedAt: 2025-11-19 16:35:40 -0500 (Wed, 19 Nov 2025) EllapsedTime: 156.1 seconds RetCode: 0 Status: OK PackageFile: biosigner_1.39.0.tar.gz PackageFileSize: 5 MiB