Package: biosigner Version: 1.39.0 Command: /Library/Frameworks/R.framework/Resources/bin/R CMD build --keep-empty-dirs --no-resave-data biosigner StartedAt: 2025-11-14 15:46:12 -0500 (Fri, 14 Nov 2025) EndedAt: 2025-11-14 15:47:17 -0500 (Fri, 14 Nov 2025) EllapsedTime: 64.7 seconds RetCode: 0 Status: OK PackageFile: biosigner_1.39.0.tar.gz PackageFileSize: 5.084 MiB