Package: biomvRCNS Version: 1.49.0 Command: /home/biocbuild/R/R/bin/R CMD build --keep-empty-dirs --no-resave-data biomvRCNS StartedAt: 2025-10-09 23:07:04 -0000 (Thu, 09 Oct 2025) EndedAt: 2025-10-09 23:09:34 -0000 (Thu, 09 Oct 2025) EllapsedTime: 150.0 seconds RetCode: 0 Status: OK PackageFile: biomvRCNS_1.49.0.tar.gz PackageFileSize: 795.4 KiB