Package: biomformat Version: 1.37.0 Command: /home/biocbuild/bbs-3.22-bioc/R/bin/R CMD INSTALL biomformat StartedAt: 2025-10-09 15:10:01 -0400 (Thu, 09 Oct 2025) EndedAt: 2025-10-09 15:10:11 -0400 (Thu, 09 Oct 2025) EllapsedTime: 10.3 seconds RetCode: 0 Status: OK