Package: biomformat Version: 1.37.0 Command: /home/biocbuild/bbs-3.22-bioc/R/bin/R CMD build --keep-empty-dirs --no-resave-data --md5 biomformat StartedAt: 2025-10-09 16:34:06 -0400 (Thu, 09 Oct 2025) EndedAt: 2025-10-09 16:34:18 -0400 (Thu, 09 Oct 2025) EllapsedTime: 12.0 seconds RetCode: 0 Status: OK PackageFile: biomformat_1.37.0.tar.gz PackageFileSize: 339.3 KiB