Package: biomformat Version: 1.35.0 Command: /Library/Frameworks/R.framework/Resources/bin/R CMD INSTALL biomformat StartedAt: 2025-02-05 15:10:20 -0500 (Wed, 05 Feb 2025) EndedAt: 2025-02-05 15:10:30 -0500 (Wed, 05 Feb 2025) EllapsedTime: 10.1 seconds RetCode: 0 Status: OK