Package: biomaRt Version: 2.65.0 Command: rm -rf biomaRt.buildbin-libdir && mkdir biomaRt.buildbin-libdir && F:\biocbuild\bbs-3.22-bioc\R\bin\R.exe CMD INSTALL --build --library=biomaRt.buildbin-libdir biomaRt_2.65.0.tar.gz StartedAt: 2025-08-15 09:50:41 -0400 (Fri, 15 Aug 2025) EndedAt: 2025-08-15 09:51:33 -0400 (Fri, 15 Aug 2025) EllapsedTime: 51.9 seconds RetCode: 0 Status: OK PackageFile: biomaRt_2.65.0.zip PackageFileSize: 935.8 KiB