Package: biodbUniprot Version: 1.15.1 Command: /home/biocbuild/R/R/bin/R CMD INSTALL biodbUniprot StartedAt: 2025-09-29 20:42:36 -0000 (Mon, 29 Sep 2025) EndedAt: 2025-09-29 20:42:58 -0000 (Mon, 29 Sep 2025) EllapsedTime: 22.2 seconds RetCode: 0 Status: OK