Package: biodbUniprot Version: 1.15.1 Command: /home/biocbuild/R/R/bin/R CMD build --keep-empty-dirs --no-resave-data biodbUniprot StartedAt: 2025-10-20 22:17:03 -0000 (Mon, 20 Oct 2025) EndedAt: 2025-10-20 22:17:18 -0000 (Mon, 20 Oct 2025) EllapsedTime: 15.0 seconds RetCode: 1 Status: ERROR PackageFile: None PackageFileSize: NA