Package: biodbUniprot Version: 1.13.0 Command: /Library/Frameworks/R.framework/Resources/bin/R CMD check --install=check:biodbUniprot.install-out.txt --library=/Library/Frameworks/R.framework/Resources/library --no-vignettes --timings biodbUniprot_1.13.0.tar.gz StartedAt: 2025-02-04 19:11:11 -0500 (Tue, 04 Feb 2025) EndedAt: 2025-02-04 19:13:53 -0500 (Tue, 04 Feb 2025) EllapsedTime: 162.1 seconds RetCode: 0 Status: OK CheckDir: biodbUniprot.Rcheck Warnings: 0