Package: biodbUniprot Version: 1.13.0 Command: /Library/Frameworks/R.framework/Resources/bin/R CMD build --keep-empty-dirs --no-resave-data biodbUniprot StartedAt: 2025-02-04 16:01:24 -0500 (Tue, 04 Feb 2025) EndedAt: 2025-02-04 16:01:59 -0500 (Tue, 04 Feb 2025) EllapsedTime: 35.5 seconds RetCode: 0 Status: OK PackageFile: biodbUniprot_1.13.0.tar.gz PackageFileSize: 410.8 KiB