Package: biodbUniprot Version: 1.13.0 Command: /home/biocbuild/R/R/bin/R CMD INSTALL biodbUniprot StartedAt: 2025-01-29 20:22:19 -0000 (Wed, 29 Jan 2025) EndedAt: 2025-01-29 20:22:29 -0000 (Wed, 29 Jan 2025) EllapsedTime: 9.9 seconds RetCode: 0 Status: OK