Package: biodbUniprot Version: 1.13.0 Command: /home/biocbuild/R/R/bin/R CMD check --install=check:biodbUniprot.install-out.txt --library=/home/biocbuild/R/R/site-library --no-vignettes --timings biodbUniprot_1.13.0.tar.gz StartedAt: 2025-01-28 03:55:56 -0000 (Tue, 28 Jan 2025) EndedAt: 2025-01-28 08:39:55 -0000 (Tue, 28 Jan 2025) EllapsedTime: 17039.4 seconds RetCode: None Status: TIMEOUT CheckDir: biodbUniprot.Rcheck Warnings: NA