Package: biodbUniprot Version: 1.13.0 Command: /home/biocbuild/R/R/bin/R CMD build --keep-empty-dirs --no-resave-data biodbUniprot StartedAt: 2025-01-28 21:18:17 -0000 (Tue, 28 Jan 2025) EndedAt: 2025-01-28 21:19:10 -0000 (Tue, 28 Jan 2025) EllapsedTime: 53.0 seconds RetCode: 0 Status: OK PackageFile: biodbUniprot_1.13.0.tar.gz PackageFileSize: 476.4 KiB