Package: biodbUniprot Version: 1.13.0 Command: /Library/Frameworks/R.framework/Resources/bin/R CMD INSTALL biodbUniprot StartedAt: 2025-02-04 15:19:19 -0500 (Tue, 04 Feb 2025) EndedAt: 2025-02-04 15:19:22 -0500 (Tue, 04 Feb 2025) EllapsedTime: 3.6 seconds RetCode: 0 Status: OK