Package: biodbNci Version: 1.13.1 Command: /home/biocbuild/R/R/bin/R CMD build --keep-empty-dirs --no-resave-data biodbNci StartedAt: 2025-10-13 22:42:08 -0000 (Mon, 13 Oct 2025) EndedAt: 2025-10-13 22:42:52 -0000 (Mon, 13 Oct 2025) EllapsedTime: 44.0 seconds RetCode: 1 Status: ERROR PackageFile: None PackageFileSize: NA