Package: biodbNci Version: 1.13.1 Command: F:\biocbuild\bbs-3.22-bioc\R\bin\R.exe CMD INSTALL biodbNci StartedAt: 2025-08-14 15:33:56 -0400 (Thu, 14 Aug 2025) EndedAt: 2025-08-14 15:34:34 -0400 (Thu, 14 Aug 2025) EllapsedTime: 38.0 seconds RetCode: 0 Status: OK