Package: biodbNci Version: 1.11.0 Command: E:\biocbuild\bbs-3.21-bioc\R\bin\R.exe CMD check --no-multiarch --install=check:biodbNci.install-out.txt --library=E:\biocbuild\bbs-3.21-bioc\R\library --no-vignettes --timings biodbNci_1.11.0.tar.gz StartedAt: 2025-02-02 22:59:20 -0500 (Sun, 02 Feb 2025) EndedAt: 2025-02-02 23:04:13 -0500 (Sun, 02 Feb 2025) EllapsedTime: 293.5 seconds RetCode: 0 Status: OK CheckDir: biodbNci.Rcheck Warnings: 0