Package: biodbNcbi Version: 1.13.1 Command: /home/biocbuild/R/R/bin/R CMD build --keep-empty-dirs --no-resave-data biodbNcbi StartedAt: 2025-10-16 23:34:23 -0000 (Thu, 16 Oct 2025) EndedAt: 2025-10-16 23:34:44 -0000 (Thu, 16 Oct 2025) EllapsedTime: 21.0 seconds RetCode: 1 Status: ERROR PackageFile: None PackageFileSize: NA