Package: biodbNcbi Version: 1.13.1 Command: F:\biocbuild\bbs-3.22-bioc\R\bin\R.exe CMD INSTALL biodbNcbi StartedAt: 2025-08-14 15:33:56 -0400 (Thu, 14 Aug 2025) EndedAt: 2025-08-14 15:34:16 -0400 (Thu, 14 Aug 2025) EllapsedTime: 20.1 seconds RetCode: 0 Status: OK