Package: biodbHmdb Version: 1.15.1 Command: /home/biocbuild/R/R/bin/R CMD build --keep-empty-dirs --no-resave-data biodbHmdb StartedAt: 2025-10-06 22:11:07 -0000 (Mon, 06 Oct 2025) EndedAt: 2025-10-06 22:12:05 -0000 (Mon, 06 Oct 2025) EllapsedTime: 58.0 seconds RetCode: 1 Status: ERROR PackageFile: None PackageFileSize: NA