Package: biodbChebi Version: 1.15.0 Maintainer: Pierrick Roger MaintainerEmail: pierrick.roger at cea.fr git_url: https://git.bioconductor.org/packages/biodbChebi git_branch: devel git_last_commit: 1a7ef22 git_last_commit_date: 2025-04-15 12:39:10 -0400 (Tue, 15 Apr 2025)