Package: biodb Version: 1.17.1 Command: chmod a+r biodb -R && F:\biocbuild\bbs-3.22-bioc\R\bin\R.exe CMD build --keep-empty-dirs --no-resave-data biodb StartedAt: 2025-08-14 18:46:00 -0400 (Thu, 14 Aug 2025) EndedAt: 2025-08-14 18:49:16 -0400 (Thu, 14 Aug 2025) EllapsedTime: 195.9 seconds RetCode: 0 Status: OK PackageFile: biodb_1.17.1.tar.gz PackageFileSize: 1.779 MiB