Package: biodb Version: 1.17.2 Command: /home/biocbuild/bbs-3.22-bioc/R/bin/R CMD build --keep-empty-dirs --no-resave-data --md5 biodb StartedAt: 2025-10-24 16:40:02 -0400 (Fri, 24 Oct 2025) EndedAt: 2025-10-24 16:41:04 -0400 (Fri, 24 Oct 2025) EllapsedTime: 62.1 seconds RetCode: 0 Status: OK PackageFile: biodb_1.17.2.tar.gz PackageFileSize: 1.12 MiB