Package: biodb Version: 1.15.0 Command: /home/biocbuild/bbs-3.21-bioc/R/bin/R CMD INSTALL biodb StartedAt: 2025-02-03 15:19:31 -0500 (Mon, 03 Feb 2025) EndedAt: 2025-02-03 15:20:34 -0500 (Mon, 03 Feb 2025) EllapsedTime: 62.4 seconds RetCode: 0 Status: OK